BEGIN:VCALENDAR
VERSION:2.0
PRODID:spatie/icalendar-generator
DESCRIPTION:Eventi da UN.I.O.N. Unione Italiana Organismi Notificati e Abil
 itati
X-WR-CALDESC:Eventi da UN.I.O.N. Unione Italiana Organismi Notificati e Abi
 litati
REFRESH-INTERVAL;VALUE=DURATION:PT1440M
X-PUBLISHED-TTL:PT1440M
BEGIN:VTIMEZONE
TZID:Europe/Rome
BEGIN:STANDARD
DTSTART:20231029T030000Z
TZOFFSETFROM:+0200
TZOFFSETTO:+0100
END:STANDARD
BEGIN:DAYLIGHT
DTSTART:20240331T020000Z
TZOFFSETFROM:+0100
TZOFFSETTO:+0200
END:DAYLIGHT
END:VTIMEZONE
BEGIN:VTIMEZONE
TZID:UTC
BEGIN:STANDARD
DTSTART:20250729T221218Z
TZOFFSETFROM:+0000
TZOFFSETTO:+0000
END:STANDARD
END:VTIMEZONE
BEGIN:VEVENT
UID:19-14
DTSTAMP:20260425T221218Z
SUMMARY:Seminario Anacam Lazio
LOCATION:l’Holiday Inn Rome Eur Parco dei Medici  Viale Castello della Ma
 gliana 65  Roma
ORGANIZER;CN=Jlenia Giannone:MAILTO:info@uni-on.it
DTSTART;TZID=Europe/Rome:20240411T090000
DTEND;TZID=Europe/Rome:20240411T170000
X-ALT-DESC;FMTTYPE=TEXT/HTML:
CATEGORIES:General
URL;VALUE=URI:https://www.uni-on.it/mc-events/seminario-anacam-lazio/?mc_id
 =19
END:VEVENT
END:VCALENDAR